{"text_format":"1","workbook":"xlsx","n_sheets":5,"sheets":["FR-P&L","FR-BS","Cash Flow","EXTRACT ","LRR"],"not_rendered":{"charts":0,"images":4,"macros":0,"external_links":1,"defined_names":29,"comments":0,"pivot_tables":0},"unopened":[],"bounds":{"document_bytes":16777216,"sheet_cells":100000,"rows_first":2000,"rows_last":500,"rows_between":2000,"halvings":0,"cell_chars":16384,"cell_head_chars":4096},"cells_cut":0,"cells_raw":0,"read":"whole","date_system":"1900"}

{"sheet":"FR-P&L","index":0,"n_rows":57,"n_cols":7,"rows_kept":57,"cut":false,"hidden":false,"merged":[[50,1,50,6],[47,1,47,6],[44,1,44,6],[45,1,45,6],[46,1,46,6],[48,1,48,6],[49,1,49,6],[56,3,56,6],[55,0,55,1],[51,3,51,6],[54,3,54,6],[55,3,55,6],[56,0,56,1],[54,0,54,1],[12,0,14,0],[12,1,14,1],[12,2,12,4],[1,0,1,6],[2,0,2,6],[3,0,3,6],[4,0,4,6],[5,0,5,6],[6,0,6,6],[7,0,7,6],[8,0,8,6],[9,0,9,6],[10,0,10,6],[11,0,11,6],[12,5,12,6]]}
[]
["PHYTO CHEM (INDIA) LIMITED"]
["CIN : L24110TG1989PLC009500"]
["Registered Office : Survey No.628, Temple Street, Bonthapally-502313,"]
["Gummadidala Mandal,  Sangareddy District, Telangana."]
["Corporate Office : No.8-3-229/23, First Floor, Thaherville,"]
["Yousufguda Check Post,  Hyderabad - 500 045, Telangana. "]
["Tel : 040-23557712 / 23557713, Fax : 040-23557714."]
["Email: info@phytochemindia.com, Website: www.phytochemindia.com"]
[]
["Statement of Audited Financial Results for the \nQuarter And Year Ended 31st March 2022"]
["(Rs. in Lakhs Except EPS)"]
["Sl. No.","Particulars","Quarter Ended ",null,null,"For the Year Ended"]
[null,null,"31-03-2022\n","31-12-2021","31-03-2021","31-03-2022","31-03-2021"]
[null,null,"(Audited)","(Unaudited)","(Audited)","(Audited)","(Audited)"]
[1,"Revenue from operations",344.38000000000011,762.82,643.66999999999996,2311.94,4448.8]
[2,"Other income",12.980000000000018,4.58,36.54,129.30000000000001,80.47]
[3,"Total Revenue (1+ 2)",{"$f":"SUM(C16:C17)","v":357.36000000000013},{"$f":"SUM(D16:D17)","v":767.40000000000009},{"$f":"SUM(E16:E17)","v":680.20999999999992},{"$f":"SUM(F16:F17)","v":2441.2400000000002},{"$f":"SUM(G16:G17)","v":4529.2700000000004}]
[4,"Expenses:"]
[null,"Cost of Raw materials consumed",109.75999999999999,239.38,401.18,1358.98,3686.54]
[null,"Purchase of Stock-In-Trade",0,0,0,0,0]
[null,"Changes in inventories of finished goods work-in-progress and Stock-in-Trade\n ",-36.099999999999994,276.73,-32.82,162.54,-153.3973536]
[null,"Employee benefits expense ",82.700000000000017,76.569999999999993,94.12,316.72000000000003,320.92]
[null,"Finance costs",59.19,55.58,56.73,209.53,211.68]
[null,"Depreciation and amortization expense",10.32,10.23,10.26,40.92,42.58]
[null,"Other expenses",135.52999999999997,50.96,172.21,332.83,374.3]
[null,"Total expenses",{"$f":"SUM(C20:C26)","v":361.4},{"$f":"SUM(D20:D26)","v":709.45000000000016},{"$f":"SUM(E20:E26)","v":701.68000000000006},{"$f":"SUM(F20:F26)","v":2421.52},{"$f":"SUM(G20:G26)","v":4482.6226464000001}]
[5,"Profit / (Loss) before Tax and exceptional items (3-4)",{"$f":"C18-C27","v":-4.0399999999998499},{"$f":"D18-D27","v":57.949999999999932},{"$f":"E18-E27+0.01","v":-21.460000000000139},{"$f":"19.73-0.01","v":19.72},{"$f":"G18-G27+0.01","v":46.657353600000313}]
[6,"Exceptional Items",0,0,0,0,0]
[7,"Profit / (Loss) before extraordinary items & tax (5-6)",{"$f":"C28-C29","v":-4.0399999999998499},{"$f":"D28-D29","v":57.949999999999932},{"$f":"E28-E29","v":-21.460000000000139},{"$f":"+F28+F29","v":19.72},{"$f":"G28-G29","v":46.657353600000313}]
[8,"Extraordinary Items",0,0,0,0,0]
[9,"Profit before tax (7 -8)",{"$f":"C30-C31","v":-4.0399999999998499},{"$f":"D30-D31","v":57.949999999999932},{"$f":"E30-E31","v":-21.460000000000139},{"$f":"+F30+F31","v":19.72},{"$f":"G30-G31","v":46.657353600000313}]
[10,"Tax expense:"]
[null,"(a) Current tax",4.3800000000000008,6.25,4.01,10.63,19]
[null,"(b) Deferred tax ",-13.22,-0.14000000000000001,-6.89,-13.89,-21.65]
[null,"Total Tax Expense (a+b)",{"$f":"SUM(C34:C35)","v":-8.84},{"$f":"SUM(D34:D35)","v":6.11},{"$f":"SUM(E34:E35)","v":-2.88},{"$f":"SUM(F34:F35)","v":-3.26},{"$f":"SUM(G34:G35)","v":-2.6499999999999986}]
[11,"Net Profit / (Loss) for the period after tax (9 - 10)",{"$f":"C32-C36+0.01","v":4.8100000000001497},{"$f":"D32-D36","v":51.839999999999932},{"$f":"E32-E36","v":-18.58000000000014},{"$f":"F32-F36","v":22.979999999999997},{"$f":"G32-G36","v":49.307353600000312}]
[12,"TotalComprehensive Income (Net of Tax)",1.64,-4.8600000000000003,0.79,4,4.97]
[13,"Total Comprehensive Income (Net of Tax) for the period comprising Profit / Loss for the period (after tax) and other comprehensive Income.",{"$f":"C37+C38","v":6.4500000000001494},{"$f":"D37+D38","v":46.979999999999933},{"$f":"E37+E38-0.01","v":-17.800000000000143},{"$f":"+F37+F38","v":26.979999999999997},{"$f":"G37+G38-0.01","v":54.267353600000312}]
[14,"Paid up Equity Share Capital (Face value of Rs.10.00 each)",430.02,430.02,430.02,430.02,430.02]
[15,"Other Equity excluding revaluation reserves","--","--","--",615.41999999999996,588.42999999999995]
[16,"Earnings per equity share: - In Rs. (Not annualised for Quarter Ended Results)"]
[null,"(1) Basic",{"$f":"C37/C40*1000/100","v":0.11185526254593159},{"$f":"D37/D40*1000/100","v":1.2055253244035145},{"$f":"E37/E40*1000/100","v":-0.43207292684061538},{"$f":"F37/F40*1000/100","v":0.53439374912794746},{"$f":"G37/G40*1000/100","v":1.1466293102646461}]
[null,"(2) Diluted",{"$f":"C37/C40*1000/100","v":0.11185526254593159},{"$f":"D37/D40*1000/100","v":1.2055253244035145},{"$f":"E37/E40*1000/100","v":-0.43207292684061538},{"$f":"F37/F40*1000/100","v":0.53439374912794746},{"$f":"G37/G40*1000/100","v":1.1466293102646461}]
[1,"The Company operates mainly in  one  segment i.e., Manufacturing and  Marketing of  Pesticide  Formulations  and  small  way in real estate activity.  There  are  no  transactions  of real  estate   activity  during  the quarter  ended  31-03-2022.   As at 31st March, 2022, the Company has deployed Rs.96.79 Lakhs in Real Estate activity and the rest of amount is deployed in Pesticides activity only."]
[2,"The above Audited Financial results have been reviewed by the Audit committee and approved by the Board of Directors at their meeting held on 28th May 2022."]
[3,"The Company has decided to exercise the option permitted U/s 115BAA of the Income Tax Act 1961 and Current Tax is worked out accordingly."]
[4,"The figures for the Quarter Ended March 31, 2022 and March 31, 2021 are the balancing figures between the Audited figures in respect of the full Financial Year and Unaudited published figures upto the Third Quarter for the respective years."]
[5,"The above is an extract of the detailed format of Quarterly Financial Results filed with the Stock Exchange under Regulations 33 of the SEBI (Listing and other Disclosures Requirements) Regulations, 2015.  The full format of the Financial Results is available on the Stock Exchange Websites: www.bseindia.com and the same is also available at Company website : www.phytochemindia.com."]
[6,"These above Audited financial results have been prepared in accordance with Indian Accounting Standards (Ind AS) as prescribed under Section 133 of Companies Act, 2013 read with Rule 3 of the Companies (Indian Accounting Standards) Rules, 2015 and relevant amendment rules thereafter."]
[7,"Previous period figures have been reclassified / regrouped, wherever necessary to make them comparable."]
[null,null,null,"For and on behalf of the Board"]
[]
[]
[null,null,null,"Y.Nayudamma"]
[" Place : Hyderabad",null,null,"Managing Director"]
[" Date   : 28-05-2022",null,null,"DIN : 00377721"]

{"sheet":"FR-BS","index":1,"n_rows":65,"n_cols":4,"rows_kept":65,"cut":false,"hidden":false,"merged":[[62,0,62,1],[62,2,62,3],[63,0,63,1],[63,2,63,3],[64,0,64,1],[64,2,64,3],[61,2,61,3],[45,0,45,1],[46,0,46,1],[47,0,47,1],[48,0,48,1],[51,0,51,1],[52,0,52,1],[53,0,53,1],[55,0,55,1],[57,0,57,1],[59,2,59,3],[60,2,60,3],[49,0,49,1],[50,0,50,1],[54,0,54,1],[44,0,44,1],[32,0,32,1],[33,0,33,1],[34,0,34,1],[35,0,35,1],[36,0,36,1],[37,0,37,1],[39,0,39,1],[40,0,40,1],[41,0,41,1],[42,0,42,1],[43,0,43,1],[31,0,31,1],[19,0,19,1],[20,0,20,1],[21,0,21,1],[22,0,22,1],[25,0,25,1],[26,0,26,1],[27,0,27,1],[28,0,28,1],[29,0,29,1],[30,0,30,1],[23,0,23,1],[24,0,24,1],[18,0,18,1],[7,0,7,1],[9,0,9,1],[10,0,10,1],[11,0,11,1],[12,0,12,1],[13,0,13,1],[14,0,14,1],[15,0,15,1],[16,0,16,1],[17,0,17,1],[8,0,8,1],[6,0,6,1],[0,2,0,3],[1,0,1,3],[3,0,3,1],[4,0,4,1],[5,0,5,1],[2,0,2,3]]}
[null,null,"Phyto Chem (India) Limited"]
[":: 2 ::"]
["(Rs. In Lakhs)"]
["Particulars",null,"Ind AS","Ind AS"]
[null,null,"March 31, 2022","March 31, 2021"]
["Assets:"]
["Non-Current Assets"]
["(a) Property , Plant and Equipment",null,313.25,343.44]
["(b) Capital Work In Progress",null,0,0]
["(c) Investment Property",null,0,0]
["(d) Intangible Asset",null,0,0]
["(e) Financial Assets",null,0,0]
["   (i)  Investments",null,16.93,15.83]
["    ii) Loans",null,17.87,19.39]
[" (iii) Other Financial Assets",null,27.64,41.1]
["(f) Deferred Tax Assets (Net)",null,0,0]
["(g) Other Non Current Assets",null,0,0]
[null,null,{"$f":"SUM(C8:C17)","v":375.69},{"$f":"SUM(D8:D17)","v":419.76}]
["Current Assets"]
["(a) Inventories",null,1258.4000000000001,1612.24]
["(b) Financial Assets",null,0,0]
["(i)   Trade Receivables",null,2007.5,2228.9]
["(ii)  Cash and cash equivalents",null,13.77,6.16]
["(iii) Bank Balances Other than Cash and"]
["        cash equivalents",null,0,6.44]
["(iv) Loans and Advances",null,0,0]
["(v)  Other Financial Assets",null,0,0]
["(c) Current Tax Assets (Net)",null,0,0]
["(d) Other Current Assets",null,144.5,239.42]
[null,null,{"$f":"SUM(C20:C29)","v":3424.17},{"$f":"SUM(D20:D29)","v":4093.1600000000003}]
["Total Assets",null,{"$f":"C18+C30","v":3799.86},{"$f":"D18+D30","v":4512.92}]
[]
["Equity & Liabilities:"]
["Equity"]
["(a) Equity Share Capital",null,430.02,430.02]
["(b) Other equity",null,615.41999999999996,588.42999999999995]
[null,null,{"$f":"SUM(C35:C36)","v":1045.44},{"$f":"SUM(D35:D36)","v":1018.4499999999999}]
["Liabilities"]
["Non-Current Liabilities"]
["(a) Financials Liabilities",null,0,0]
["   (i) Borrowings",null,239.45,362.59]
["   (ii) Other financial liabilities",null,122.69,122.19]
["(b) Provisions",null,0,0]
["(c) Deferred tax liabilities - Net",null,-45.75,-33.049999999999997]
[null,null,{"$f":"SUM(C40:C44)","v":316.39},{"$f":"SUM(D40:D44)+0.01","v":451.73999999999995}]
["Current liabilities"]
["(a) Financial Liabilities",null,0,0]
["  (i)  Borrowings",null,1721.92,1564.44]
["  (ii) Trade Payables",null,0,0]
["   (a) Total Outstanding dues to MSME",null,0,0]
["     (b) Total Outstanding dues other than MSME",null,151.16,1031.02]
["  (iii) Other financial liabilities",null,358.28,216]
["(b) Other Liabilities",null,88.13,120.89]
["(c) Provisions",null,107.91,91.38]
["(d) Current Tax Liability (Net)",null,10.63,19]
["Total Current Liabilities",null,{"$f":"SUM(C47:C55)","v":2438.0300000000002},{"$f":"SUM(D47:D55)","v":3042.73}]
[null,"Total Liabilities",{"$f":"C56+C45","v":2754.42},{"$f":"D56+D45","v":3494.47}]
["Total Equity & Liabilities",null,{"$f":"C37+C45+C56","v":3799.86},{"$f":"D37+D45+D56","v":4512.92}]
[]
[null,null,"For and on behalf of the Board"]
[]
[]
[null,null,"Y.Nayudamma"]
[" Place : Hyderabad",null,"Managing Director"]
[" Date  : 28-05-2022",null,"DIN : 00377721"]

{"sheet":"Cash Flow","index":2,"n_rows":57,"n_cols":4,"rows_kept":57,"cut":false,"hidden":false,"merged":[[52,1,52,3],[0,0,0,3],[1,0,1,3],[2,0,2,3]]}
["Phyto Chem (India) Limited"]
["::3::"]
["Cash flow statement for the year ended March 31, 2022"]
["(All amounts in Indian Rupees, except otherwise stated)"]
["Particulars",null,"Year ended \n31st March 2022","Year ended \n31st March 2021"]
["A. Cash flows from Operating activities"]
["Net Profit Before tax and extra-ordinary items:",null,1972700,4665000]
["Add:     Non Cash expenditure:"]
["   Depreciation expense",null,4092200,4258400]
["Less:   Non cash incomes",null,"-","-"]
["Less:   Income from financing or investing activities:"]
["   Dividend income",null,-19000,-1533500]
[" Profit on sale of fixed assets (Vehicles)",null,-20000,-3413300]
["Interest Income received ",null,-200000]
["Add:     Expenditures of financing or investing activities:"]
[" Interest expenses",null,20953100,21167800]
["Operating profit before working capital changes",null,{"$f":"SUM(C7:C16)","v":26779000},{"$f":"SUM(D7:D16)+0.45","v":25144400.449999999}]
["Adjustments for Changes in working capital"]
["Add:     Increase in current liabilities",null,0,0]
["Add:     Decrease in current assets",null,67016000,208155500]
["Less:   Decrease in current liabilities",null,-60470800,-241180800]
["Less:   Increase in current assets",null,0,0]
["Cash generated from operating activities",null,{"$f":"SUM(C17:C22)","v":33324200},{"$f":"SUM(D17:D22)","v":-7880899.5500000119}]
["Less:   Income tax paid",null,326400,{"$f":"265456+44","v":265500}]
["Cash flow before extraordinary items",null,{"$f":"SUM(C23:C24)","v":33650600},{"$f":"SUM(D23:D24)","v":-7615399.5500000119}]
["Add/(Less): Extraordinary items",null,0,0]
["Other Comprehensive Income",null,400200,497400]
["Net cash flow from operating activities (A)",null,{"$f":"SUM(C25:C27)","v":34050800},{"$f":"SUM(D25:D27)","v":-7117999.5500000119}]
["B. Cash flows from Investing activities"]
[" Purchase of fixed assets",null,-1073300,{"$f":"-1869920+20","v":-1869900}]
[" Purchase of Investmets",null,-109500,0]
[" Proceeds from sale of fixed assets",null,20000,{"$f":"9997965+35","v":9998000}]
[" Income received on chit contributions",null,0,1533500]
["Dividend  Income received ",null,19000,0]
["Interest Income received ",null,200000,0]
[" Profit on sale of fixed assets",null,{"$f":"'[1]PL Notes'!C20","v":0},{"$f":"3413372+28","v":3413400}]
[" Proceeds from sale of securities",null,0,-463100]
[" Repayment of advances or loans from third parties etc.",null,1497300,0]
[" Increase in gratuity fund",null,0,{"$f":"-2060706+6","v":-2060700}]
["Net cash flow from Investing activities (B)",null,{"$f":"SUM(C30:C39)","v":553500},{"$f":"SUM(D30:D39)","v":10551200}]
["C. Cash flows from Financing activities"]
[" Proceeds from the issue of share capital",null,0,"-"]
[" Proceeds from long-term borrowings",null,0,{"$f":"16068188+12","v":16068200}]
[" Repayment of long term borrowings",null,0,{"$f":"1122402-2","v":1122400}]
[" Other long term liabilities",null,-12314300,0]
["Increasing Deffered Tax Liabilities",null,-1270000,0]
[" Security Deposits Received",null,50000,0]
[" Interest paid",null,-20953100,-21167800]
["Net cash flow from Financing activities (C)",null,{"$f":"SUM(C42:C48)","v":-34487400},{"$f":"SUM(D42:D48)","v":-3977200}]
["Net Increase/Decrease in Cash and cash equivalents",null,{"$f":"C49+C40+C28","v":116900},{"$f":"D28+D40+D49","v":-543999.55000001192}]
["Add: Opening Cash and cash equivalents",null,{"$f":"D52","v":1260000.4499999881},{"$f":"1804050-50","v":1804000}]
["Closing Cash and cash equivalents ",null,{"$f":"C51+C50-100","v":1376800.4499999881},{"$f":"D51+D50","v":1260000.4499999881}]
[null,"For and on behalf of the Board of Directors"]
[]
[null,null,{"$f":"'[1]Ind As BS'!B71","v":"Y.Nayudamma"}]
["Place : Hyderabad",null,{"$f":"'[1]Ind As BS'!B72","v":"Managing Director"}]
["Date: 28th May 2022",null,{"$f":"'[1]Ind As BS'!B73","v":"DIN: 00377721"}]

{"sheet":"EXTRACT ","index":3,"n_rows":35,"n_cols":7,"rows_kept":35,"cut":false,"hidden":false,"merged":[[33,0,33,1],[34,0,34,1],[25,1,25,6],[26,1,26,6],[27,1,27,6],[28,1,28,6],[29,1,29,6],[31,4,31,6],[30,3,30,6],[32,3,32,6],[33,3,33,6],[34,3,34,6],[22,0,22,6],[23,1,23,6],[24,1,24,6],[11,0,13,1],[11,2,11,4],[11,5,11,6],[6,0,6,6],[7,0,7,6],[8,0,8,6],[9,0,9,6],[10,0,10,6],[5,0,5,6],[0,0,0,6],[1,0,1,6],[2,0,2,6],[3,0,3,6],[4,0,4,6]]}
["PHYTO CHEM (INDIA) LIMITED"]
["CIN : L24110TG1989PLC009500"]
["Registered Office : Survey No.628, Temple Street, Bonthapally-502313,"]
["Gummadidala Mandal,  Sangareddy District, Telangana."]
["Corporate Office : No.8-3-229/23, First Floor, Thaherville,"]
["Yousufguda Check Post,  Hyderabad - 500 045, Telangana. "]
["Tel : 040-23557712 / 23557713, Fax : 040-23557714."]
["Email: info@phytochemindia.com, Website: www.phytochemindia.com"]
[]
["Extract of Audited Financial Results \nFor The Quarter And Year Ended March 31, 2022"]
["(Rs. in Lakhs Except EPS)"]
["Particulars",null,"Quarter Ended ",null,null,"Year Ended"]
[null,null,"31-03-2022\n","31-12-2021","31-03-2021","31-03-2022","31-03-2021"]
[null,null,"(Audited)","(Unaudited)","(Audited)","(Audited)","(Audited)"]
[1,"Total Income from operations (net)                             ",{"$f":"'FR-P&L'!C18","v":357.36000000000013},{"$f":"'FR-P&L'!D18","v":767.40000000000009},{"$f":"'FR-P&L'!E18","v":680.20999999999992},{"$f":"'FR-P&L'!F18","v":2441.2400000000002},{"$f":"'FR-P&L'!G18","v":4529.2700000000004}]
[2,"Net Profit / (Loss) before tax and exceptional items",{"$f":"'FR-P&L'!C28","v":-4.0399999999998499},{"$f":"'FR-P&L'!D28","v":57.949999999999932},{"$f":"'FR-P&L'!E28","v":-21.460000000000139},{"$f":"'FR-P&L'!F28","v":19.72},{"$f":"'FR-P&L'!G28","v":46.657353600000313}]
[3,"Net Profit / (Loss) before tax and after exceptional items",{"$f":"'FR-P&L'!C30","v":-4.0399999999998499},{"$f":"'FR-P&L'!D30","v":57.949999999999932},{"$f":"'FR-P&L'!E30","v":-21.460000000000139},{"$f":"'FR-P&L'!F30","v":19.72},{"$f":"'FR-P&L'!G30","v":46.657353600000313}]
[4,"Net Profit / (Loss) after tax and Extraordinary items",{"$f":"'FR-P&L'!C32","v":-4.0399999999998499},{"$f":"'FR-P&L'!D32","v":57.949999999999932},{"$f":"'FR-P&L'!E32","v":-21.460000000000139},{"$f":"'FR-P&L'!F32","v":19.72},{"$f":"'FR-P&L'!G32","v":46.657353600000313}]
[5,"Total Comprehensive Income (Net of Tax) for the period  Comprising Profit / (Loss) for the period (after tax) and Other comprehensive Income.",{"$f":"'FR-P&L'!C39","v":6.4500000000001494},{"$f":"'FR-P&L'!D39","v":46.979999999999933},{"$f":"'FR-P&L'!E39","v":-17.800000000000143},{"$f":"'FR-P&L'!F39","v":26.979999999999997},{"$f":"'FR-P&L'!G39","v":54.267353600000312}]
[6,"Paid-up equity Share Capital                                                                                 (Face Value Rs.10/- per share)",{"$f":"'FR-P&L'!C40","v":430.02},{"$f":"'FR-P&L'!D40","v":430.02},{"$f":"'FR-P&L'!E40","v":430.02},{"$f":"'FR-P&L'!F40","v":430.02},{"$f":"'FR-P&L'!G40","v":430.02}]
[7,"Other Equity",{"$f":"'FR-P&L'!C41","v":"--"},{"$f":"'FR-P&L'!D41","v":"--"},{"$f":"'FR-P&L'!E41","v":"--"},{"$f":"'FR-P&L'!F41","v":615.41999999999996},{"$f":"'FR-P&L'!G41","v":588.42999999999995}]
[8,"Earnings per share (of Rs.10/- each) Basic & Diluted Rs.",{"$f":"'FR-P&L'!C44","v":0.11185526254593159},{"$f":"'FR-P&L'!D44","v":1.2055253244035145},{"$f":"'FR-P&L'!E44","v":-0.43207292684061538},{"$f":"'FR-P&L'!F44","v":0.53439374912794746},{"$f":"'FR-P&L'!G44","v":1.1466293102646461}]
["NOTES :-"]
[1,"The above Audited financial results have been reviewed by the Audit committee and approved by the Board of Directors at their meeting held on 28th May 2022."]
[2,"The Company operates mainly in one segment i.e., Manufacturing and Marketing of Pesticides Formulations and smally way in real estate activity.  There are no transactions of real estate activity during the quarter and year ended 31-03-2022.  As at 31st March 2022 the Company has deployed Rs.96.79 Lakhs in Real Estate activity and the rest of amount is deployed in Pesticides activity only."]
[3,"The Company has decided to exercise the option permitted U/s 115BAA of the Income Tax Act 1961 and Current Tax is worked out accordingly."]
[4,"The figures for the Quarter Ended March 31, 2022 and March 31, 2021 are the balancing figures between the Audited figures in respect of the full Financial Year and Unaudited published figures upto the Third Quarter for the respective years."]
[5,"These Audited Financial Results have been prepared in accordance with Indian Accounting Standards (Ind AS) as prescribed under Section 133 of Companies Act, 2013 read with Rule 3 of the Companies (Indian Accounting Standards) Rules, 2015 and relevant amendment rules thereafter."]
[6,"The above is an extract of the detailed format of Quarterly Financial Results filed with the Stock Exchange under Regulations 33 of the SEBI (Listing and other Disclosures Requirements) Regulations, 2015.  The full format of the Financial Results is available on the Stock Exchange Websites: www.bseindia.com and the same is also available at Company website : www.phytochemindia.com."]
[7,"Previous period figures have been reclassified / regrouped, wherever necessary to make them comparable."]
[null,null,null,"For and on behalf of the Board"]
[]
[null,null,null,"Y.Nayudamma"]
["Place : Hyderabad",null,null,"Managing Director"]
["Date  : 28-05-2022",null,null,"DIN : 00377721"]

{"sheet":"LRR","index":4,"n_rows":0,"n_cols":0,"rows_kept":0,"cut":false,"hidden":false,"merged":[]}